BEGIN:VCALENDAR
VERSION:2.0
PRODID:-//Golfclub Dachau e.V. - ECPv6.15.20//NONSGML v1.0//EN
CALSCALE:GREGORIAN
METHOD:PUBLISH
X-WR-CALNAME:Golfclub Dachau e.V.
X-ORIGINAL-URL:https://www.gcdachau.de
X-WR-CALDESC:Veranstaltungen für Golfclub Dachau e.V.
REFRESH-INTERVAL;VALUE=DURATION:PT1H
X-Robots-Tag:noindex
X-PUBLISHED-TTL:PT1H
BEGIN:VTIMEZONE
TZID:Europe/Berlin
BEGIN:DAYLIGHT
TZOFFSETFROM:+0100
TZOFFSETTO:+0200
TZNAME:CEST
DTSTART:20240331T010000
END:DAYLIGHT
BEGIN:STANDARD
TZOFFSETFROM:+0200
TZOFFSETTO:+0100
TZNAME:CET
DTSTART:20241027T010000
END:STANDARD
BEGIN:DAYLIGHT
TZOFFSETFROM:+0100
TZOFFSETTO:+0200
TZNAME:CEST
DTSTART:20250330T010000
END:DAYLIGHT
BEGIN:STANDARD
TZOFFSETFROM:+0200
TZOFFSETTO:+0100
TZNAME:CET
DTSTART:20251026T010000
END:STANDARD
BEGIN:DAYLIGHT
TZOFFSETFROM:+0100
TZOFFSETTO:+0200
TZNAME:CEST
DTSTART:20260329T010000
END:DAYLIGHT
BEGIN:STANDARD
TZOFFSETFROM:+0200
TZOFFSETTO:+0100
TZNAME:CET
DTSTART:20261025T010000
END:STANDARD
END:VTIMEZONE
BEGIN:VEVENT
DTSTART;TZID=Europe/Berlin:20251008T100000
DTEND;TZID=Europe/Berlin:20251008T100000
DTSTAMP:20260421T112313
CREATED:20250213T161822Z
LAST-MODIFIED:20250922T115317Z
UID:10002832-1759917600-1759917600@www.gcdachau.de
SUMMARY:Rottbacher Turnier
DESCRIPTION:
URL:https://www.gcdachau.de/event/rottbacher-turnier-7/
CATEGORIES:Turnier
END:VEVENT
BEGIN:VEVENT
DTSTART;TZID=Europe/Berlin:20251009T150000
DTEND;TZID=Europe/Berlin:20251009T150000
DTSTAMP:20260421T112313
CREATED:20251006T074114Z
LAST-MODIFIED:20251006T074220Z
UID:10002852-1760022000-1760022000@www.gcdachau.de
SUMMARY:Greenkeeper Stammtisch
DESCRIPTION:
URL:https://www.gcdachau.de/event/greenkeeper-stammtisch/
CATEGORIES:Turnier
END:VEVENT
BEGIN:VEVENT
DTSTART;TZID=Europe/Berlin:20251012T100000
DTEND;TZID=Europe/Berlin:20251012T100000
DTSTAMP:20260421T112313
CREATED:20250213T161916Z
LAST-MODIFIED:20250922T115127Z
UID:10002834-1760263200-1760263200@www.gcdachau.de
SUMMARY:Monatsbecher - Golf House
DESCRIPTION:251012_Monatsbecher
URL:https://www.gcdachau.de/event/monatsbecher-golfhouse-34/
CATEGORIES:Turnier
END:VEVENT
END:VCALENDAR