BEGIN:VCALENDAR
VERSION:2.0
PRODID:-//Golfclub Dachau e.V. - ECPv6.15.20//NONSGML v1.0//EN
CALSCALE:GREGORIAN
METHOD:PUBLISH
X-ORIGINAL-URL:https://www.gcdachau.de
X-WR-CALDESC:Veranstaltungen für Golfclub Dachau e.V.
REFRESH-INTERVAL;VALUE=DURATION:PT1H
X-Robots-Tag:noindex
X-PUBLISHED-TTL:PT1H
BEGIN:VTIMEZONE
TZID:Europe/Berlin
BEGIN:DAYLIGHT
TZOFFSETFROM:+0100
TZOFFSETTO:+0200
TZNAME:CEST
DTSTART:20210328T010000
END:DAYLIGHT
BEGIN:STANDARD
TZOFFSETFROM:+0200
TZOFFSETTO:+0100
TZNAME:CET
DTSTART:20211031T010000
END:STANDARD
BEGIN:DAYLIGHT
TZOFFSETFROM:+0100
TZOFFSETTO:+0200
TZNAME:CEST
DTSTART:20220327T010000
END:DAYLIGHT
BEGIN:STANDARD
TZOFFSETFROM:+0200
TZOFFSETTO:+0100
TZNAME:CET
DTSTART:20221030T010000
END:STANDARD
BEGIN:DAYLIGHT
TZOFFSETFROM:+0100
TZOFFSETTO:+0200
TZNAME:CEST
DTSTART:20230326T010000
END:DAYLIGHT
BEGIN:STANDARD
TZOFFSETFROM:+0200
TZOFFSETTO:+0100
TZNAME:CET
DTSTART:20231029T010000
END:STANDARD
END:VTIMEZONE
BEGIN:VEVENT
DTSTART;TZID=Europe/Berlin:20220905T100000
DTEND;TZID=Europe/Berlin:20220905T110000
DTSTAMP:20260420T123214
CREATED:20220816T131219Z
LAST-MODIFIED:20220823T072959Z
UID:10002491-1662372000-1662375600@www.gcdachau.de
SUMMARY:Senioren Eschenhof
DESCRIPTION:Tee 1 gesperrt
URL:https://www.gcdachau.de/event/senioren-eschenhof/
END:VEVENT
BEGIN:VEVENT
DTSTART;TZID=Europe/Berlin:20220906T130000
DTEND;TZID=Europe/Berlin:20220906T173000
DTSTAMP:20260420T123214
CREATED:20220905T114446Z
LAST-MODIFIED:20220905T144521Z
UID:10002492-1662469200-1662485400@www.gcdachau.de
SUMMARY:Damen offen
DESCRIPTION:Ausschreibung Damenturnier – offen \nTee 1 gesperrt
URL:https://www.gcdachau.de/event/damen-offen-2/
END:VEVENT
BEGIN:VEVENT
DTSTART;TZID=Europe/Berlin:20220910T090000
DTEND;TZID=Europe/Berlin:20220910T170000
DTSTAMP:20260420T123214
CREATED:20220905T121943Z
LAST-MODIFIED:20220905T122459Z
UID:10002493-1662800400-1662829200@www.gcdachau.de
SUMMARY:Clubmeisterschaft NETTO
DESCRIPTION:220910_Clubmeisterschaft
URL:https://www.gcdachau.de/event/clubmeisterschaft-netto-5/
END:VEVENT
BEGIN:VEVENT
DTSTART;TZID=Europe/Berlin:20220911T090000
DTEND;TZID=Europe/Berlin:20220911T130000
DTSTAMP:20260420T123214
CREATED:20220306T212025Z
LAST-MODIFIED:20220905T123219Z
UID:10002468-1662886800-1662901200@www.gcdachau.de
SUMMARY:Clubmeisterschaft BRUTTO
DESCRIPTION:220910_Clubmeisterschaft
URL:https://www.gcdachau.de/event/clubmeisterschaft-brutto-2/
END:VEVENT
END:VCALENDAR