BEGIN:VCALENDAR
VERSION:2.0
PRODID:-//Golfclub Dachau e.V. - ECPv6.15.20//NONSGML v1.0//EN
CALSCALE:GREGORIAN
METHOD:PUBLISH
X-WR-CALNAME:Golfclub Dachau e.V.
X-ORIGINAL-URL:https://www.gcdachau.de
X-WR-CALDESC:Veranstaltungen für Golfclub Dachau e.V.
REFRESH-INTERVAL;VALUE=DURATION:PT1H
X-Robots-Tag:noindex
X-PUBLISHED-TTL:PT1H
BEGIN:VTIMEZONE
TZID:Europe/Berlin
BEGIN:DAYLIGHT
TZOFFSETFROM:+0100
TZOFFSETTO:+0200
TZNAME:CEST
DTSTART:20210328T010000
END:DAYLIGHT
BEGIN:STANDARD
TZOFFSETFROM:+0200
TZOFFSETTO:+0100
TZNAME:CET
DTSTART:20211031T010000
END:STANDARD
BEGIN:DAYLIGHT
TZOFFSETFROM:+0100
TZOFFSETTO:+0200
TZNAME:CEST
DTSTART:20220327T010000
END:DAYLIGHT
BEGIN:STANDARD
TZOFFSETFROM:+0200
TZOFFSETTO:+0100
TZNAME:CET
DTSTART:20221030T010000
END:STANDARD
BEGIN:DAYLIGHT
TZOFFSETFROM:+0100
TZOFFSETTO:+0200
TZNAME:CEST
DTSTART:20230326T010000
END:DAYLIGHT
BEGIN:STANDARD
TZOFFSETFROM:+0200
TZOFFSETTO:+0100
TZNAME:CET
DTSTART:20231029T010000
END:STANDARD
END:VTIMEZONE
BEGIN:VEVENT
DTSTART;TZID=Europe/Berlin:20220901T110000
DTEND;TZID=Europe/Berlin:20220901T133000
DTSTAMP:20260419T180300
CREATED:20220306T211824Z
LAST-MODIFIED:20220823T072126Z
UID:10002464-1662030000-1662039000@www.gcdachau.de
SUMMARY:Senioren intern (3)
DESCRIPTION:220901_Senioren intern 3
URL:https://www.gcdachau.de/event/senioren-intern-3-2/
END:VEVENT
BEGIN:VEVENT
DTSTART;TZID=Europe/Berlin:20220904T090000
DTEND;TZID=Europe/Berlin:20220904T130000
DTSTAMP:20260419T180300
CREATED:20220306T212024Z
LAST-MODIFIED:20220830T112509Z
UID:10002466-1662282000-1662296400@www.gcdachau.de
SUMMARY:Monatsbecher - Golfhouse
DESCRIPTION:220814_Monatsbecher
URL:https://www.gcdachau.de/event/monatsbecher-golfhouse-13/
END:VEVENT
END:VCALENDAR