BEGIN:VCALENDAR
VERSION:2.0
PRODID:-//Golfclub Dachau e.V. - ECPv6.15.20//NONSGML v1.0//EN
CALSCALE:GREGORIAN
METHOD:PUBLISH
X-ORIGINAL-URL:https://www.gcdachau.de
X-WR-CALDESC:Veranstaltungen für Golfclub Dachau e.V.
REFRESH-INTERVAL;VALUE=DURATION:PT1H
X-Robots-Tag:noindex
X-PUBLISHED-TTL:PT1H
BEGIN:VTIMEZONE
TZID:Europe/Berlin
BEGIN:DAYLIGHT
TZOFFSETFROM:+0100
TZOFFSETTO:+0200
TZNAME:CEST
DTSTART:20210328T010000
END:DAYLIGHT
BEGIN:STANDARD
TZOFFSETFROM:+0200
TZOFFSETTO:+0100
TZNAME:CET
DTSTART:20211031T010000
END:STANDARD
BEGIN:DAYLIGHT
TZOFFSETFROM:+0100
TZOFFSETTO:+0200
TZNAME:CEST
DTSTART:20220327T010000
END:DAYLIGHT
BEGIN:STANDARD
TZOFFSETFROM:+0200
TZOFFSETTO:+0100
TZNAME:CET
DTSTART:20221030T010000
END:STANDARD
BEGIN:DAYLIGHT
TZOFFSETFROM:+0100
TZOFFSETTO:+0200
TZNAME:CEST
DTSTART:20230326T010000
END:DAYLIGHT
BEGIN:STANDARD
TZOFFSETFROM:+0200
TZOFFSETTO:+0100
TZNAME:CET
DTSTART:20231029T010000
END:STANDARD
END:VTIMEZONE
BEGIN:VEVENT
DTSTART;TZID=Europe/Berlin:20220430T100000
DTEND;TZID=Europe/Berlin:20220430T120000
DTSTAMP:20260424T102305
CREATED:20220403T201122Z
LAST-MODIFIED:20220405T121803Z
UID:10002482-1651312800-1651320000@www.gcdachau.de
SUMMARY:Newcomers Welcome
DESCRIPTION:
URL:https://www.gcdachau.de/event/newcomers-welcome-3/
CATEGORIES:Event
END:VEVENT
BEGIN:VEVENT
DTSTART;TZID=Europe/Berlin:20220501T110000
DTEND;TZID=Europe/Berlin:20220501T133000
DTSTAMP:20260424T102305
CREATED:20220306T210946Z
LAST-MODIFIED:20250426T095702Z
UID:10002435-1651402800-1651411800@www.gcdachau.de
SUMMARY:Maibaumturnier
DESCRIPTION:220501_Maibaum Turnier
URL:https://www.gcdachau.de/event/maibaumturnier-2/
LOCATION:An der Floßlände 3\, Dachau\, 85221\, Deutschland
CATEGORIES:Turnier
END:VEVENT
END:VCALENDAR