BEGIN:VCALENDAR
VERSION:2.0
PRODID:-//Golfclub Dachau e.V. - ECPv6.15.20//NONSGML v1.0//EN
CALSCALE:GREGORIAN
METHOD:PUBLISH
X-ORIGINAL-URL:https://www.gcdachau.de
X-WR-CALDESC:Veranstaltungen für Golfclub Dachau e.V.
REFRESH-INTERVAL;VALUE=DURATION:PT1H
X-Robots-Tag:noindex
X-PUBLISHED-TTL:PT1H
BEGIN:VTIMEZONE
TZID:Europe/Berlin
BEGIN:DAYLIGHT
TZOFFSETFROM:+0100
TZOFFSETTO:+0200
TZNAME:CEST
DTSTART:20240331T010000
END:DAYLIGHT
BEGIN:STANDARD
TZOFFSETFROM:+0200
TZOFFSETTO:+0100
TZNAME:CET
DTSTART:20241027T010000
END:STANDARD
BEGIN:DAYLIGHT
TZOFFSETFROM:+0100
TZOFFSETTO:+0200
TZNAME:CEST
DTSTART:20250330T010000
END:DAYLIGHT
BEGIN:STANDARD
TZOFFSETFROM:+0200
TZOFFSETTO:+0100
TZNAME:CET
DTSTART:20251026T010000
END:STANDARD
BEGIN:DAYLIGHT
TZOFFSETFROM:+0100
TZOFFSETTO:+0200
TZNAME:CEST
DTSTART:20260329T010000
END:DAYLIGHT
BEGIN:STANDARD
TZOFFSETFROM:+0200
TZOFFSETTO:+0100
TZNAME:CET
DTSTART:20261025T010000
END:STANDARD
END:VTIMEZONE
BEGIN:VEVENT
DTSTART;TZID=Europe/Berlin:20250501T100000
DTEND;TZID=Europe/Berlin:20250501T100000
DTSTAMP:20260420T154656
CREATED:20250213T161359Z
LAST-MODIFIED:20250426T100718Z
UID:10002785-1746093600-1746093600@www.gcdachau.de
SUMMARY:Maibaumturnier
DESCRIPTION:250501_Maibaum Turnier
URL:https://www.gcdachau.de/event/maibaumturnier-4/
CATEGORIES:Turnier
END:VEVENT
BEGIN:VEVENT
DTSTART;TZID=Europe/Berlin:20250504T100000
DTEND;TZID=Europe/Berlin:20250504T100000
DTSTAMP:20260420T154656
CREATED:20250213T161359Z
LAST-MODIFIED:20250426T100846Z
UID:10002786-1746352800-1746352800@www.gcdachau.de
SUMMARY:Monatsbecher - Golf House
DESCRIPTION:250504_Monatsbecher
URL:https://www.gcdachau.de/event/monatsbecher-golfhouse-29/
CATEGORIES:Turnier
END:VEVENT
BEGIN:VEVENT
DTSTART;TZID=Europe/Berlin:20250506T110000
DTEND;TZID=Europe/Berlin:20250506T110000
DTSTAMP:20260420T154656
CREATED:20250213T161400Z
LAST-MODIFIED:20250428T142959Z
UID:10002787-1746529200-1746529200@www.gcdachau.de
SUMMARY:BGV AK 65 II Herren
DESCRIPTION:
URL:https://www.gcdachau.de/event/bgv-ak-65-ii-herren-2/
CATEGORIES:Turnier
END:VEVENT
BEGIN:VEVENT
DTSTART;TZID=Europe/Berlin:20250510T150000
DTEND;TZID=Europe/Berlin:20250510T150000
DTSTAMP:20260420T154656
CREATED:20250213T161400Z
LAST-MODIFIED:20250507T125451Z
UID:10002788-1746889200-1746889200@www.gcdachau.de
SUMMARY:Preis der Greenkeeper
DESCRIPTION:250510_Preis der Greenkeeper
URL:https://www.gcdachau.de/event/preis-der-greenkeeper-4/
CATEGORIES:Turnier
END:VEVENT
BEGIN:VEVENT
DTSTART;TZID=Europe/Berlin:20250515T110000
DTEND;TZID=Europe/Berlin:20250515T110000
DTSTAMP:20260420T154656
CREATED:20250213T161414Z
LAST-MODIFIED:20250429T075043Z
UID:10002789-1747306800-1747306800@www.gcdachau.de
SUMMARY:Senioren Intern 2
DESCRIPTION:250515_Senioren Intern 2
URL:https://www.gcdachau.de/event/senioren-intern-2-6/
CATEGORIES:Turnier
END:VEVENT
BEGIN:VEVENT
DTSTART;TZID=Europe/Berlin:20250517T100000
DTEND;TZID=Europe/Berlin:20250517T100000
DTSTAMP:20260420T154656
CREATED:20250213T161415Z
LAST-MODIFIED:20250428T143327Z
UID:10002790-1747476000-1747476000@www.gcdachau.de
SUMMARY:time4golf
DESCRIPTION:250501_time4golf Trophy
URL:https://www.gcdachau.de/event/time4golf/
CATEGORIES:Turnier
END:VEVENT
BEGIN:VEVENT
DTSTART;TZID=Europe/Berlin:20250521T170000
DTEND;TZID=Europe/Berlin:20250521T170000
DTSTAMP:20260420T154656
CREATED:20250213T161415Z
LAST-MODIFIED:20250507T095827Z
UID:10002791-1747846800-1747846800@www.gcdachau.de
SUMMARY:After Work
DESCRIPTION:250521_After Work
URL:https://www.gcdachau.de/event/after-work/
CATEGORIES:Turnier
END:VEVENT
BEGIN:VEVENT
DTSTART;TZID=Europe/Berlin:20250522T000000
DTEND;TZID=Europe/Berlin:20250522T000000
DTSTAMP:20260420T154656
CREATED:20250213T161415Z
LAST-MODIFIED:20250213T161415Z
UID:10002792-1747872000-1747872000@www.gcdachau.de
SUMMARY:Senioren m. G. Ried. in Eschenried
DESCRIPTION:
URL:https://www.gcdachau.de/event/senioren-m-g-ried-in-eschenried/
END:VEVENT
BEGIN:VEVENT
DTSTART;TZID=Europe/Berlin:20250522T150000
DTEND;TZID=Europe/Berlin:20250522T150000
DTSTAMP:20260420T154656
CREATED:20250414T091712Z
LAST-MODIFIED:20250428T143535Z
UID:10002839-1747926000-1747926000@www.gcdachau.de
SUMMARY:Oberlandpokal mit München-West
DESCRIPTION:
URL:https://www.gcdachau.de/event/oberland-pokal-3/
CATEGORIES:Turnier
END:VEVENT
BEGIN:VEVENT
DTSTART;TZID=Europe/Berlin:20250525T090000
DTEND;TZID=Europe/Berlin:20250525T090000
DTSTAMP:20260420T154656
CREATED:20250213T161416Z
LAST-MODIFIED:20250428T143633Z
UID:10002793-1748163600-1748163600@www.gcdachau.de
SUMMARY:DGL Bezirksliga Herren
DESCRIPTION:
URL:https://www.gcdachau.de/event/dgl-bezirkliga-herren-2/
CATEGORIES:Turnier
END:VEVENT
END:VCALENDAR