BEGIN:VCALENDAR
VERSION:2.0
PRODID:-//Golfclub Dachau e.V. - ECPv6.15.20//NONSGML v1.0//EN
CALSCALE:GREGORIAN
METHOD:PUBLISH
X-ORIGINAL-URL:https://www.gcdachau.de
X-WR-CALDESC:Veranstaltungen für Golfclub Dachau e.V.
REFRESH-INTERVAL;VALUE=DURATION:PT1H
X-Robots-Tag:noindex
X-PUBLISHED-TTL:PT1H
BEGIN:VTIMEZONE
TZID:Europe/Berlin
BEGIN:DAYLIGHT
TZOFFSETFROM:+0100
TZOFFSETTO:+0200
TZNAME:CEST
DTSTART:20210328T010000
END:DAYLIGHT
BEGIN:STANDARD
TZOFFSETFROM:+0200
TZOFFSETTO:+0100
TZNAME:CET
DTSTART:20211031T010000
END:STANDARD
BEGIN:DAYLIGHT
TZOFFSETFROM:+0100
TZOFFSETTO:+0200
TZNAME:CEST
DTSTART:20220327T010000
END:DAYLIGHT
BEGIN:STANDARD
TZOFFSETFROM:+0200
TZOFFSETTO:+0100
TZNAME:CET
DTSTART:20221030T010000
END:STANDARD
BEGIN:DAYLIGHT
TZOFFSETFROM:+0100
TZOFFSETTO:+0200
TZNAME:CEST
DTSTART:20230326T010000
END:DAYLIGHT
BEGIN:STANDARD
TZOFFSETFROM:+0200
TZOFFSETTO:+0100
TZNAME:CET
DTSTART:20231029T010000
END:STANDARD
END:VTIMEZONE
BEGIN:VEVENT
DTSTART;TZID=Europe/Berlin:20221004T130000
DTEND;TZID=Europe/Berlin:20221004T180000
DTSTAMP:20260419T152311
CREATED:20220918T144947Z
LAST-MODIFIED:20221204T194651Z
UID:10002465-1664888400-1664906400@www.gcdachau.de
SUMMARY:Damen Finale
DESCRIPTION:221004_Damen Finale \n  \nTee 1 gesperrt von 12:30 – 14:00 Uhr
URL:https://www.gcdachau.de/event/damen-finale-6/
CATEGORIES:Platzsperre,Turnier
END:VEVENT
BEGIN:VEVENT
DTSTART;TZID=Europe/Berlin:20221009T000000
DTEND;TZID=Europe/Berlin:20221009T000000
DTSTAMP:20260419T152311
CREATED:20220306T212227Z
LAST-MODIFIED:20221008T065737Z
UID:10002477-1665273600-1665273600@www.gcdachau.de
SUMMARY:abgesagt - Monatsbecher - Golfhouse - abgesagt
DESCRIPTION:221009_Monatsbecher \n 
URL:https://www.gcdachau.de/event/monatsbecher-golfhouse-14/
END:VEVENT
BEGIN:VEVENT
DTSTART;TZID=Europe/Berlin:20221015T120000
DTEND;TZID=Europe/Berlin:20221015T163000
DTSTAMP:20260419T152311
CREATED:20220306T212225Z
LAST-MODIFIED:20221204T192129Z
UID:10002470-1665835200-1665851400@www.gcdachau.de
SUMMARY:Preis der Gastronomie / ABGESAGT
DESCRIPTION:
URL:https://www.gcdachau.de/event/preis-der-gastronomie-3/
CATEGORIES:Platzsperre
END:VEVENT
BEGIN:VEVENT
DTSTART;TZID=Europe/Berlin:20221016T100000
DTEND;TZID=Europe/Berlin:20221016T123000
DTSTAMP:20260419T152311
CREATED:20220906T115658Z
LAST-MODIFIED:20221204T193019Z
UID:10002460-1665914400-1665923400@www.gcdachau.de
SUMMARY:Palmieri
DESCRIPTION:
URL:https://www.gcdachau.de/event/palmieri/
END:VEVENT
BEGIN:VEVENT
DTSTART;TZID=Europe/Berlin:20221021T110000
DTEND;TZID=Europe/Berlin:20221021T133000
DTSTAMP:20260419T152311
CREATED:20221018T082402Z
LAST-MODIFIED:20221204T192153Z
UID:10002494-1666350000-1666359000@www.gcdachau.de
SUMMARY:Lederhosn Turnier
DESCRIPTION:
URL:https://www.gcdachau.de/event/lederhosn-turnier/
END:VEVENT
BEGIN:VEVENT
DTSTART;TZID=Europe/Berlin:20221023T000000
DTEND;TZID=Europe/Berlin:20221023T003000
DTSTAMP:20260419T152311
CREATED:20220306T212426Z
LAST-MODIFIED:20221204T192853Z
UID:10002478-1666483200-1666485000@www.gcdachau.de
SUMMARY:Abgolfen - ABGESAGT
DESCRIPTION:221023_Abgolfen
URL:https://www.gcdachau.de/event/abgolfen-2/
END:VEVENT
END:VCALENDAR